BEGIN:VCALENDAR
PRODID:NingEventWidget-v1
VERSION:2.0
METHOD:PUBLISH
BEGIN:VTIMEZONE
TZID:Europe/Amsterdam
X-LIC-LOCATION:Europe/Amsterdam
BEGIN:DAYLIGHT
TZOFFSETFROM:+0100
TZOFFSETTO:+0200
TZNAME:CEST
DTSTART:19700329T020000
RRULE:FREQ=YEARLY;BYMONTH=3;BYDAY=-1SU
END:DAYLIGHT
BEGIN:STANDARD
TZOFFSETFROM:+0200
TZOFFSETTO:+0100
TZNAME:CET
DTSTART:19701025T030000
RRULE:FREQ=YEARLY;BYMONTH=10;BYDAY=-1SU
END:STANDARD
END:VTIMEZONE
BEGIN:VEVENT
UID:2859790:Event:2967
DTSTAMP:20260421T060727Z
SUMMARY:Cuban Night At The Airport Rdam
DESCRIPTION:Cuban night at the Rdam Airport, met DJ Fruto Bomba.\nlekk
 er chillen of heerlijk dansen op riante dansvloer, vrij parkeren.\n\nF
 or more information visit https://salsaclubonline.ning.com/events/cuba
 n-night-at-the-airport
DTSTART;TZID=Europe/Amsterdam:20091009T213000
DTEND;TZID=Europe/Amsterdam:20091010T150000
CATEGORIES:latin, dance, party
LOCATION:Regardz Airport Hotel Rotterdam
WEBSITE:http://www.salsa-airport.nl
URL:http://www.salsa-airport.nl
CONTACT:0654777869
ORGANIZER;CN=RaJizz:https://salsaclubonline.ning.com/profile/RaJizz896
ATTACH;FMTTYPE="image/jpeg":http://storage.ning.com/topology/rest/1.0/
 file/get/2030749500?profile=original
ATTENDEE;ROLE=REQ-PARTICIPANT;PARTSTAT=ACCEPTED;RSVP=TRUE;CN=RaJizz:ht
 tps://salsaclubonline.ning.com/profile/RaJizz896
END:VEVENT
END:VCALENDAR
